BEGIN:VCALENDAR
VERSION:2.0
PRODID:-//tennews//Event//DE
CALSCALE:GREGORIAN
METHOD:PUBLISH
BEGIN:VEVENT
UID:1@tennews.emergizmedia.de
DTSTAMP:20260420T231831Z
DTSTART:20260502
DTEND:20260502
SUMMARY:Seitenzauber Buchmesse
DESCRIPTION:
LOCATION:Stadttheater Ingolstadt, Schloßgelände 1, 85049, Ingolstadt
URL:https://tennews.de/veranstaltung/seitenzauber-buchmesse
END:VEVENT
END:VCALENDAR
